{
 "currentVersion": 10.81,
 "serviceDescription": "Historical U.S. Geological Survey (USGS) topographic maps. The collection includes all scales and all editions of the approximately 180,000 topographic maps published by the USGS since the inception of the topographic mapping program in 1884.",
 "name": "USA_Historical_Topographic_Maps",
 "description": "Historical U.S. Geological Survey (USGS) topographic maps. The collection includes all scales and all editions of the approximately 180,000 topographic maps published by the USGS since the inception of the topographic mapping program in 1884.",
 "extent": {
  "xmin": -2.00375070672E7,
  "ymin": -1618228.6894747708,
  "xmax": 2.003750708681201E7,
  "ymax": 1.1753228589699998E7,
  "spatialReference": {
   "wkid": 102100,
   "latestWkid": 3857
  }
 },
 "initialExtent": {
  "xmin": -2.00375070672E7,
  "ymin": -1618228.6894747708,
  "xmax": 2.003750708681201E7,
  "ymax": 1.1753228589699998E7,
  "spatialReference": {
   "wkid": 102100,
   "latestWkid": 3857
  }
 },
 "fullExtent": {
  "xmin": -2.00375070672E7,
  "ymin": -1618228.6894747708,
  "xmax": 2.003750708681201E7,
  "ymax": 1.1753228589699998E7,
  "spatialReference": {
   "wkid": 102100,
   "latestWkid": 3857
  }
 },
 "timeInfo": {
  "startTimeField": "DateCurrent",
  "endTimeField": "DateCurrent",
  "timeExtent": [
   -2871676800000,
   1136073600000
  ],
  "timeReference": null
 },
 "pixelSizeX": 0.026009279245673308,
 "pixelSizeY": 0.026009279245673308,
 "bandCount": 3,
 "pixelType": "U8",
 "minPixelSize": 0,
 "maxPixelSize": 0,
 "copyrightText": "Source: Historical Topographic Map Collection courtesy of the U.S. Geological Survey, Esri",
 "serviceDataType": "esriImageServiceDataTypeRGB",
 "minValues": [
  0,
  0,
  0
 ],
 "maxValues": [
  255,
  255,
  255
 ],
 "meanValues": [
  196.67254700989335,
  213.05018330902342,
  179.92302992076327
 ],
 "stdvValues": [
  37.720239279378106,
  29.97158630300058,
  53.790036194885054
 ],
 "objectIdField": "OBJECTID",
 "fields": [
  {
   "name": "OBJECTID",
   "type": "esriFieldTypeOID",
   "alias": "OBJECTID",
   "domain": null
  },
  {
   "name": "Shape",
   "type": "esriFieldTypeGeometry",
   "alias": "Shape",
   "domain": null
  },
  {
   "name": "Category",
   "type": "esriFieldTypeInteger",
   "alias": "Category",
   "domain": {
    "type": "codedValue",
    "name": "MosaicCatalogItemCategoryDomain",
    "description": "Catalog item categories.",
    "codedValues": [
     {
      "name": "Unknown",
      "code": 0
     },
     {
      "name": "Primary",
      "code": 1
     },
     {
      "name": "Overview",
      "code": 2
     },
     {
      "name": "Unprocessed Overview",
      "code": 3
     },
     {
      "name": "Partial Overview",
      "code": 4
     },
     {
      "name": "Inactive",
      "code": 5
     },
     {
      "name": "Uploaded",
      "code": 253
     },
     {
      "name": "Incomplete",
      "code": 254
     },
     {
      "name": "Custom",
      "code": 255
     }
    ],
    "mergePolicy": "esriMPTDefaultValue",
    "splitPolicy": "esriSPTDefaultValue"
   }
  },
  {
   "name": "ZOrder",
   "type": "esriFieldTypeInteger",
   "alias": "ZOrder",
   "domain": null
  },
  {
   "name": "Scan_File_Name",
   "type": "esriFieldTypeString",
   "alias": "Map ID",
   "domain": null,
   "length": 255
  },
  {
   "name": "Map_Name",
   "type": "esriFieldTypeString",
   "alias": "Map Name",
   "domain": null,
   "length": 100
  },
  {
   "name": "DateCurrent",
   "type": "esriFieldTypeSmallInteger",
   "alias": "Date Current",
   "domain": null
  },
  {
   "name": "Date_On_Map",
   "type": "esriFieldTypeSmallInteger",
   "alias": "Date on Map",
   "domain": null
  },
  {
   "name": "Map_Scale",
   "type": "esriFieldTypeInteger",
   "alias": "Map Scale",
   "domain": null
  },
  {
   "name": "Primary_State",
   "type": "esriFieldTypeString",
   "alias": "Primary State",
   "domain": null,
   "length": 50
  },
  {
   "name": "Planimetric",
   "type": "esriFieldTypeString",
   "alias": "Planimetric",
   "domain": null,
   "length": 1
  },
  {
   "name": "Shaded_Relief",
   "type": "esriFieldTypeString",
   "alias": "Shaded Relief",
   "domain": null,
   "length": 1
  },
  {
   "name": "Orthophoto",
   "type": "esriFieldTypeString",
   "alias": "Orthophoto",
   "domain": null,
   "length": 5
  },
  {
   "name": "Special_Map",
   "type": "esriFieldTypeString",
   "alias": "Special Map",
   "domain": null,
   "length": 1
  },
  {
   "name": "Special_Printing",
   "type": "esriFieldTypeString",
   "alias": "Special Printing",
   "domain": null,
   "length": 1
  },
  {
   "name": "Advance",
   "type": "esriFieldTypeString",
   "alias": "Advance Copy",
   "domain": null,
   "length": 1
  },
  {
   "name": "Preliminary",
   "type": "esriFieldTypeString",
   "alias": "Preliminary Edition",
   "domain": null,
   "length": 1
  },
  {
   "name": "Provisional",
   "type": "esriFieldTypeString",
   "alias": "Provisional Copy",
   "domain": null,
   "length": 1
  },
  {
   "name": "Interim",
   "type": "esriFieldTypeString",
   "alias": "Interim Edition",
   "domain": null,
   "length": 1
  },
  {
   "name": "Woodland_Tint",
   "type": "esriFieldTypeString",
   "alias": "Woodland Tint",
   "domain": null,
   "length": 1
  },
  {
   "name": "Visual_Version",
   "type": "esriFieldTypeString",
   "alias": "Visual Version",
   "domain": null,
   "length": 2
  },
  {
   "name": "Keywords",
   "type": "esriFieldTypeString",
   "alias": "Keywords",
   "domain": null,
   "length": 255
  },
  {
   "name": "Map_Language",
   "type": "esriFieldTypeString",
   "alias": "Map Language",
   "domain": null,
   "length": 50
  },
  {
   "name": "Photo_Inspection",
   "type": "esriFieldTypeSmallInteger",
   "alias": "Photo Inspection Year",
   "domain": null
  },
  {
   "name": "Photo_Revision",
   "type": "esriFieldTypeSmallInteger",
   "alias": "Photo Revision Year",
   "domain": null
  },
  {
   "name": "Imprint_Year",
   "type": "esriFieldTypeSmallInteger",
   "alias": "Imprint Year",
   "domain": null
  },
  {
   "name": "Aerial_Photo_Year",
   "type": "esriFieldTypeSmallInteger",
   "alias": "Aerial Photo Year",
   "domain": null
  },
  {
   "name": "Field_Check_Year",
   "type": "esriFieldTypeSmallInteger",
   "alias": "Field Check Year",
   "domain": null
  },
  {
   "name": "Edit_Year",
   "type": "esriFieldTypeSmallInteger",
   "alias": "Edit Year",
   "domain": null
  },
  {
   "name": "Survey_Year",
   "type": "esriFieldTypeSmallInteger",
   "alias": "Survey Year",
   "domain": null
  },
  {
   "name": "Datum",
   "type": "esriFieldTypeString",
   "alias": "Datum",
   "domain": null,
   "length": 50
  },
  {
   "name": "Projection",
   "type": "esriFieldTypeString",
   "alias": "Projection",
   "domain": null,
   "length": 50
  },
  {
   "name": "N_Lat",
   "type": "esriFieldTypeDouble",
   "alias": "North Latitude",
   "domain": null
  },
  {
   "name": "S_Lat",
   "type": "esriFieldTypeDouble",
   "alias": "South Latitude",
   "domain": null
  },
  {
   "name": "W_Long",
   "type": "esriFieldTypeDouble",
   "alias": "West Longitude",
   "domain": null
  },
  {
   "name": "E_Long",
   "type": "esriFieldTypeDouble",
   "alias": "East Longitude",
   "domain": null
  },
  {
   "name": "Date_ScanID",
   "type": "esriFieldTypeInteger",
   "alias": "Order1",
   "domain": null
  },
  {
   "name": "DateCurren",
   "type": "esriFieldTypeSmallInteger",
   "alias": "DateCurren",
   "domain": null
  },
  {
   "name": "DownloadG",
   "type": "esriFieldTypeString",
   "alias": "DownloadG",
   "domain": null,
   "length": 255
  },
  {
   "name": "Citation",
   "type": "esriFieldTypeString",
   "alias": "Citation",
   "domain": null,
   "length": 255
  },
  {
   "name": "isDefault",
   "type": "esriFieldTypeSmallInteger",
   "alias": "isDefault",
   "domain": null
  }
 ],
 "capabilities": "Image,Metadata,Catalog,Mensuration",
 "defaultMosaicMethod": "ByAttribute",
 "allowedMosaicMethods": "ByAttribute,LockRaster",
 "sortField": "DateCurrent",
 "sortValue": "3000",
 "sortAscending": true,
 "mosaicOperator": "First",
 "maxDownloadSizeLimit": 2048,
 "defaultCompressionQuality": 75,
 "defaultResamplingMethod": "Bilinear",
 "maxImageHeight": 4100,
 "maxImageWidth": 15000,
 "maxRecordCount": 1000,
 "maxDownloadImageCount": 100,
 "maxMosaicImageCount": 500,
 "allowRasterFunction": true,
 "rasterFunctionInfos": [
  {
   "name": "None",
   "description": "A No-Op Function.",
   "help": ""
  }
 ],
 "rasterTypeInfos": [
  {
   "name": "Raster Dataset",
   "description": "Supports all ArcGIS Raster Datasets",
   "help": ""
  }
 ],
 "mensurationCapabilities": "Basic",
 "hasHistograms": true,
 "hasColormap": false,
 "hasRasterAttributeTable": false,
 "minScale": 0,
 "maxScale": 0,
 "exportTilesAllowed": false,
 "hasMultidimensions": false,
 "supportsStatistics": true,
 "supportsAdvancedQueries": true,
 "editFieldsInfo": null,
 "ownershipBasedAccessControlForRasters": null,
 "allowComputeTiePoints": false,
 "useStandardizedQueries": true,
 "advancedQueryCapabilities": {
  "useStandardizedQueries": true,
  "supportsStatistics": true,
  "supportsOrderBy": true,
  "supportsDistinct": true,
  "supportsPagination": true
 },
 "spatialReference": {
  "wkid": 102100,
  "latestWkid": 3857
 }
}
