View In:
ArcGIS JavaScript
ArcGIS Online Map Viewer
ArcGIS Earth
ArcMap
View Footprint In:
ArcGIS Online Map Viewer
Service Description: Historical U.S. Geological Survey (USGS) topographic maps. The collection includes all scales and all editions of the approximately 180,000 topographic maps published by the USGS since the inception of the topographic mapping program in 1884.
Name: USGS_Historical_Topographic_Maps
Description: Historical U.S. Geological Survey (USGS) topographic maps. The collection includes all scales and all editions of the approximately 180,000 topographic maps published by the USGS since the inception of the topographic mapping program in 1884.
Single Fused Map Cache: false
Extent:
XMin: -2.00375070672E7
YMin: -1618228.6894747708
XMax: 2.003750708681201E7
YMax: 1.1753228589699998E7
Spatial Reference: 102100
(3857)
Initial Extent:
XMin: -2.00375070672E7
YMin: -1618228.6894747708
XMax: 2.003750708681201E7
YMax: 1.1753228589699998E7
Spatial Reference: 102100
(3857)
Full Extent:
XMin: -2.00375070672E7
YMin: -1618228.6894747708
XMax: 2.003750708681201E7
YMax: 1.1753228589699998E7
Spatial Reference: 102100
(3857)
Time Info:
Start Time Field: DateCurrent
End Time Field: DateCurrent
Time Extent:
[1879/01/01 00:00:00 UTC, 2006/01/01 00:00:00 UTC]
Time Reference:
N/A
Pixel Size X: 0.026009279245673308
Pixel Size Y: 0.026009279245673308
Band Count: 3
Pixel Type: U8
RasterFunction Infos: {"rasterFunctionInfos": [{
"name": "None",
"description": "A No-Op Function.",
"help": ""
}]}
Mensuration Capabilities: Basic
Has Histograms: true
Has Colormap: false
Has Multi Dimensions : false
Rendering Rule:
Min Scale: 0
Max Scale: 0
Copyright Text: Source: Historical Topographic Map Collection courtesy of the U.S. Geological Survey, Esri
Service Data Type: esriImageServiceDataTypeRGB
Min Values: 0, 0, 0
Max Values: 255, 255, 255
Mean Values: 196.67254700989335, 213.05018330902342, 179.92302992076327
Standard Deviation Values: 37.720239279378106, 29.97158630300058, 53.790036194885054
Object ID Field: OBJECTID
Fields:
-
OBJECTID
(
type: esriFieldTypeOID, alias: OBJECTID
)
-
Shape
(
type: esriFieldTypeGeometry, alias: Shape
)
-
Name
(
type: esriFieldTypeString, alias: Name, length: 50
)
-
MinPS
(
type: esriFieldTypeDouble, alias: MinPS
)
-
MaxPS
(
type: esriFieldTypeDouble, alias: MaxPS
)
-
LowPS
(
type: esriFieldTypeDouble, alias: LowPS
)
-
HighPS
(
type: esriFieldTypeDouble, alias: HighPS
)
-
Category
(
type: esriFieldTypeInteger, alias: Category
,
Coded Values:
[0: Unknown]
,
[1: Primary]
,
[2: Overview]
, ...6 more...
)
-
Tag
(
type: esriFieldTypeString, alias: Tag, length: 20
)
-
GroupName
(
type: esriFieldTypeString, alias: GroupName, length: 50
)
-
ProductName
(
type: esriFieldTypeString, alias: ProductName, length: 50
)
-
CenterX
(
type: esriFieldTypeDouble, alias: CenterX
)
-
CenterY
(
type: esriFieldTypeDouble, alias: CenterY
)
-
ZOrder
(
type: esriFieldTypeInteger, alias: ZOrder
)
-
Scan_Id
(
type: esriFieldTypeDouble, alias: Scan_Id
)
-
Pub_Usgs
(
type: esriFieldTypeString, alias: Pub_Usgs, length: 255
)
-
Pub_Army_Corp_Eng
(
type: esriFieldTypeString, alias: Pub_Army_Corp_Eng, length: 255
)
-
Pub_Army_Map
(
type: esriFieldTypeString, alias: Pub_Army_Map, length: 255
)
-
Pub_War_Dept
(
type: esriFieldTypeString, alias: Pub_War_Dept, length: 255
)
-
Pub_Military_Other
(
type: esriFieldTypeString, alias: Pub_Military_Other, length: 255
)
-
Pub_Forest_Serv
(
type: esriFieldTypeString, alias: Pub_Forest_Serv, length: 255
)
-
Pub_Reclamation
(
type: esriFieldTypeString, alias: Pub_Reclamation, length: 255
)
-
Pub_Bur_Land_Mgmt
(
type: esriFieldTypeString, alias: Pub_Bur_Land_Mgmt, length: 255
)
-
Pub_Natl_Park_Serv
(
type: esriFieldTypeString, alias: Pub_Natl_Park_Serv, length: 255
)
-
Pub_Indian_Affairs
(
type: esriFieldTypeString, alias: Pub_Indian_Affairs, length: 255
)
-
Pub_Epa
(
type: esriFieldTypeString, alias: Pub_Epa, length: 255
)
-
Pub_Tenn_Valley_Auth
(
type: esriFieldTypeString, alias: Pub_Tenn_Valley_Auth, length: 255
)
-
Pub_Uscommerce
(
type: esriFieldTypeString, alias: Pub_Uscommerce, length: 255
)
-
Scan_Contributor
(
type: esriFieldTypeString, alias: Scan_Contributor, length: 255
)
-
Scanner_Resolution
(
type: esriFieldTypeDouble, alias: Scanner_Resolution
)
-
Mid_Long
(
type: esriFieldTypeDouble, alias: Mid_Long
)
-
dataset_id
(
type: esriFieldTypeString, alias: dataset_id, length: 50
)
-
SOrder
(
type: esriFieldTypeInteger, alias: SOrder
)
-
SLevelPS
(
type: esriFieldTypeDouble, alias: SLevelPS
)
-
Series
(
type: esriFieldTypeString, alias: Series, length: 255
)
-
Version
(
type: esriFieldTypeString, alias: Version, length: 255
)
-
Cell_ID
(
type: esriFieldTypeInteger, alias: Cell ID
)
-
Pub_US_Commerce
(
type: esriFieldTypeString, alias: Pub US Commerce, length: 255
)
-
Link_to_HTMC_Metadata
(
type: esriFieldTypeString, alias: Link to HTMC Metadata, length: 255
)
-
Download_GeoPDF
(
type: esriFieldTypeString, alias: Download GeoPDF, length: 255
)
-
View_FGDC_Metadata_XML
(
type: esriFieldTypeString, alias: View FGDC Metadata XML, length: 255
)
-
View_Thumbnail_Image
(
type: esriFieldTypeString, alias: View Thumbnail Image, length: 255
)
-
File_name
(
type: esriFieldTypeString, alias: File_name, length: 255
)
-
State
(
type: esriFieldTypeString, alias: State, length: 255
)
-
Year
(
type: esriFieldTypeInteger, alias: Year
)
-
Scan_File_Name
(
type: esriFieldTypeString, alias: Map ID, length: 255
)
-
Map_Name
(
type: esriFieldTypeString, alias: Map Name, length: 100
)
-
DateCurrent
(
type: esriFieldTypeSmallInteger, alias: Date Current
)
-
Date_On_Map
(
type: esriFieldTypeSmallInteger, alias: Date on Map
)
-
Map_Scale
(
type: esriFieldTypeInteger, alias: Map Scale
)
-
Primary_State
(
type: esriFieldTypeString, alias: Primary State, length: 50
)
-
Planimetric
(
type: esriFieldTypeString, alias: Planimetric, length: 1
)
-
Shaded_Relief
(
type: esriFieldTypeString, alias: Shaded Relief, length: 1
)
-
Orthophoto
(
type: esriFieldTypeString, alias: Orthophoto, length: 5
)
-
Special_Map
(
type: esriFieldTypeString, alias: Special Map, length: 1
)
-
Special_Printing
(
type: esriFieldTypeString, alias: Special Printing, length: 1
)
-
Advance
(
type: esriFieldTypeString, alias: Advance Copy, length: 1
)
-
Preliminary
(
type: esriFieldTypeString, alias: Preliminary Edition, length: 1
)
-
Provisional
(
type: esriFieldTypeString, alias: Provisional Copy, length: 1
)
-
Interim
(
type: esriFieldTypeString, alias: Interim Edition, length: 1
)
-
Woodland_Tint
(
type: esriFieldTypeString, alias: Woodland Tint, length: 1
)
-
Visual_Version
(
type: esriFieldTypeString, alias: Visual Version, length: 2
)
-
Keywords
(
type: esriFieldTypeString, alias: Keywords, length: 255
)
-
Map_Language
(
type: esriFieldTypeString, alias: Map Language, length: 50
)
-
Photo_Inspection
(
type: esriFieldTypeSmallInteger, alias: Photo Inspection Year
)
-
Photo_Revision
(
type: esriFieldTypeSmallInteger, alias: Photo Revision Year
)
-
Imprint_Year
(
type: esriFieldTypeSmallInteger, alias: Imprint Year
)
-
Aerial_Photo_Year
(
type: esriFieldTypeSmallInteger, alias: Aerial Photo Year
)
-
Field_Check_Year
(
type: esriFieldTypeSmallInteger, alias: Field Check Year
)
-
Edit_Year
(
type: esriFieldTypeSmallInteger, alias: Edit Year
)
-
Survey_Year
(
type: esriFieldTypeSmallInteger, alias: Survey Year
)
-
Datum
(
type: esriFieldTypeString, alias: Datum, length: 50
)
-
Projection
(
type: esriFieldTypeString, alias: Projection, length: 50
)
-
N_Lat
(
type: esriFieldTypeDouble, alias: North Latitude
)
-
S_Lat
(
type: esriFieldTypeDouble, alias: South Latitude
)
-
W_Long
(
type: esriFieldTypeDouble, alias: West Longitude
)
-
E_Long
(
type: esriFieldTypeDouble, alias: East Longitude
)
-
Visual_Version_Number
(
type: esriFieldTypeString, alias: Visual_Version_Number, length: 255
)
-
Photo_Inspection_Year
(
type: esriFieldTypeDouble, alias: Photo_Inspection_Year
)
-
Photo_Revision_Year
(
type: esriFieldTypeDouble, alias: Photo_Revision_Year
)
-
Scale
(
type: esriFieldTypeInteger, alias: Scale
)
-
Cell_Name
(
type: esriFieldTypeString, alias: Cell Name, length: 255
)
-
Primary_State_Name
(
type: esriFieldTypeString, alias: Primary State Name, length: 255
)
-
DateCurren
(
type: esriFieldTypeSmallInteger, alias: DateCurren
)
-
DownloadG
(
type: esriFieldTypeString, alias: DownloadG, length: 255
)
-
Citation
(
type: esriFieldTypeString, alias: Citation, length: 255
)
-
isDefault
(
type: esriFieldTypeSmallInteger, alias: isDefault
)
-
Shape_Length
(
type: esriFieldTypeDouble, alias: Shape_Length
)
-
Shape_Area
(
type: esriFieldTypeDouble, alias: Shape_Area
)
Default Mosaic Method: ByAttribute
Allowed Mosaic Methods: ByAttribute,LockRaster
SortField: DateCurrent
SortValue: 3000
Mosaic Operator: First
Default Compression Quality: 75
Default Resampling Method: Bilinear
Max Record Count: 1000
Max Image Height: 4100
Max Image Width: 15000
Max Download Image Count: 100
Max Mosaic Image Count: 500
Allow Raster Function: true
Allow Copy: null
Allow Analysis: null
Allow Compute TiePoints: false
Supports Statistics: true
Supports Advanced Queries: true
Use StandardizedQueries: true
Raster Type Infos:
Name: Raster Dataset
Description: Supports all ArcGIS Raster Datasets
Help:
Has Raster Attribute Table: false
Edit Fields Info: null
Ownership Based AccessControl For Rasters: null
Child Resources:
Info
Histograms
Key Properties
Legend
Raster Function Infos
Supported Operations:
Export Image
Query
Identify
Measure
Compute Histograms
Compute Statistics Histograms
Get Samples
Compute Class Statistics
Query Boundary
Compute Pixel Location
Validate
Project